BEGIN:VCALENDAR
VERSION:2.0
PRODID:-//VWI/ESTIEM Braunschweig - ECPv6.15.20//NONSGML v1.0//EN
CALSCALE:GREGORIAN
METHOD:PUBLISH
X-ORIGINAL-URL:https://www.vwi-braunschweig.de
X-WR-CALDESC:Veranstaltungen für VWI/ESTIEM Braunschweig
REFRESH-INTERVAL;VALUE=DURATION:PT1H
X-Robots-Tag:noindex
X-PUBLISHED-TTL:PT1H
BEGIN:VTIMEZONE
TZID:Europe/Berlin
BEGIN:DAYLIGHT
TZOFFSETFROM:+0100
TZOFFSETTO:+0200
TZNAME:CEST
DTSTART:20250330T010000
END:DAYLIGHT
BEGIN:STANDARD
TZOFFSETFROM:+0200
TZOFFSETTO:+0100
TZNAME:CET
DTSTART:20251026T010000
END:STANDARD
BEGIN:DAYLIGHT
TZOFFSETFROM:+0100
TZOFFSETTO:+0200
TZNAME:CEST
DTSTART:20260329T010000
END:DAYLIGHT
BEGIN:STANDARD
TZOFFSETFROM:+0200
TZOFFSETTO:+0100
TZNAME:CET
DTSTART:20261025T010000
END:STANDARD
BEGIN:DAYLIGHT
TZOFFSETFROM:+0100
TZOFFSETTO:+0200
TZNAME:CEST
DTSTART:20270328T010000
END:DAYLIGHT
BEGIN:STANDARD
TZOFFSETFROM:+0200
TZOFFSETTO:+0100
TZNAME:CET
DTSTART:20271031T010000
END:STANDARD
END:VTIMEZONE
BEGIN:VEVENT
DTSTART;TZID=Europe/Berlin:20260303T200000
DTEND;TZID=Europe/Berlin:20260303T210000
DTSTAMP:20260425T162319
CREATED:20251219T214914Z
LAST-MODIFIED:20251220T193722Z
UID:19116-1772568000-1772571600@www.vwi-braunschweig.de
SUMMARY:Auftaktveranstaltung des Mentoring 2026
DESCRIPTION:Liebe VWI Mitglieder! \nAufgepasst\, das VWI Mentoring-Programm startet in die nächste Runde! \nDabei begleiten erfahrene Mentoren junge Mentees ein Jahr lang auf ihrem Weg. Ziel ist es\, studentische und ordentliche Mitglieder besser miteinander in Kontakt zu bringen und den vielfältigen Wissens- und Erfahrungsschatz des #VWI zu erschließen. \n  \nSolltet ihr euch bis zum 31.01.2026 über die Forms angemeldet haben\, werdet ihr nach dem Matching von uns im Februar eine E-Mail mit allen wichtigen Informationen bekommen. In dieser werdet ihr auch den passenden Link zu dieser Veranstaltung erhalten. \nWeitere Infos findet ihr auf unserer Webseite unter VWI Mentoring. \nWir freuen uns auf eure Anmeldungen und sehen uns bei der Auftaktveranstaltungen am 3. März 2026 oder 11. März 2026 (Ausweichtermin) um 20.00 Uhr. \n  \nLiebe Grüße\, \neuer Mentoring-Team Eileen\, Anna und Lucas
URL:https://www.vwi-braunschweig.de/event/auftaktveranstaltung-des-mentoring-2026/
LOCATION:online
ATTACH;FMTTYPE=image/png:https://www.vwi-braunschweig.de/wp-content/uploads/Screenshot-2025-12-20-203223.png
END:VEVENT
BEGIN:VEVENT
DTSTART;VALUE=DATE:20260329
DTEND;VALUE=DATE:20260404
DTSTAMP:20260425T162319
CREATED:20251220T194650Z
LAST-MODIFIED:20251220T194650Z
UID:19150-1774742400-1775260799@www.vwi-braunschweig.de
SUMMARY:Beer & Chocolate Activity Week #2
DESCRIPTION:Brussels\nSun 29 March – Fri 3 April 2026\nApplication period: Dec 20\, 2025 – Jan 15\, 2026 \nCancellation deadline: Jan 30\, 2026 \n  \nYou didn’t get a spot last year? \nAnd now you want to make sure you don’t miss one of the most exciting events of the year? \nGood news\, we’ve got your back. \nEstiemers… get ready for… \n! BEER & CHOCOLATE ACTIVITY WEEK — SECOND EDITION ! \nWelcome (back) to Belgium\, a small country famous for its food\, its drinks and its ability to party until the end of the night. \nHere\, two things are undeniably part of who we are: beer and chocolate.  \nWith nearly 200 breweries\, Belgium offers one of the richest beer cultures in the world: refreshing blondes\, strong and complex dark ales\, fruity lambics… there’s something for everyone. \nAnd our chocolate? Light\, rich\, crunchy\, creamy… whatever your preference\, you’ll find something you love. \nFor this second edition\, you can expect fun activities\, unexpected tastes and a lively Belgian vibe from the very first day. \nMore flavours. \nMore surprises. \nMore unforgettable memories. \nSo… ready to jump in? \n[WARNING] \nThere will be a lot of beer and a lot of chocolate throughout the week. If that doesn’t sound like your thing\, this might not be the right event for you… but we’d be happy to see you at another one!
URL:https://www.vwi-braunschweig.de/event/beer-chocolate-activity-week-2/
LOCATION:Brüssel
ATTACH;FMTTYPE=image/png:https://www.vwi-braunschweig.de/wp-content/uploads/Screenshot-2025-12-20-204510.png
END:VEVENT
END:VCALENDAR