BEGIN:VCALENDAR
VERSION:2.0
PRODID:-//VWI/ESTIEM Braunschweig - ECPv6.15.20//NONSGML v1.0//EN
CALSCALE:GREGORIAN
METHOD:PUBLISH
X-ORIGINAL-URL:https://www.vwi-braunschweig.de
X-WR-CALDESC:Veranstaltungen für VWI/ESTIEM Braunschweig
REFRESH-INTERVAL;VALUE=DURATION:PT1H
X-Robots-Tag:noindex
X-PUBLISHED-TTL:PT1H
BEGIN:VTIMEZONE
TZID:Europe/Berlin
BEGIN:DAYLIGHT
TZOFFSETFROM:+0100
TZOFFSETTO:+0200
TZNAME:CEST
DTSTART:20240331T010000
END:DAYLIGHT
BEGIN:STANDARD
TZOFFSETFROM:+0200
TZOFFSETTO:+0100
TZNAME:CET
DTSTART:20241027T010000
END:STANDARD
BEGIN:DAYLIGHT
TZOFFSETFROM:+0100
TZOFFSETTO:+0200
TZNAME:CEST
DTSTART:20250330T010000
END:DAYLIGHT
BEGIN:STANDARD
TZOFFSETFROM:+0200
TZOFFSETTO:+0100
TZNAME:CET
DTSTART:20251026T010000
END:STANDARD
BEGIN:DAYLIGHT
TZOFFSETFROM:+0100
TZOFFSETTO:+0200
TZNAME:CEST
DTSTART:20260329T010000
END:DAYLIGHT
BEGIN:STANDARD
TZOFFSETFROM:+0200
TZOFFSETTO:+0100
TZNAME:CET
DTSTART:20261025T010000
END:STANDARD
END:VTIMEZONE
BEGIN:VEVENT
DTSTART;VALUE=DATE:20251001
DTEND;VALUE=DATE:20251004
DTSTAMP:20260421T113442
CREATED:20250501T201320Z
LAST-MODIFIED:20250501T201355Z
UID:19014-1759276800-1759535999@www.vwi-braunschweig.de
SUMMARY:VWI Wiesn
DESCRIPTION:Mehr informationen unter: VWI Wiesn – VWI Verband Deutscher Wirtschaftsingenieure e.V. \nDas Oktoberfest-Event der HG München \nDie VWI / ESTIEM Hochschulgruppe München lädt zur VWiesn ein – erlebe München und das größte Volksfest der Welt bei Brauhausbesuch\, Wiesn-Zelt\, Clubnacht und Weißwurstfrühstück. Freu dich auf unvergessliche Tage mit 150 Teilnehmenden\, guter Stimmung und jeder Menge Musik!
URL:https://www.vwi-braunschweig.de/event/vwi-wiesn/
LOCATION:München
ATTACH;FMTTYPE=image/webp:https://www.vwi-braunschweig.de/wp-content/uploads/VWI_Wiesn_2017.webp
END:VEVENT
BEGIN:VEVENT
DTSTART;VALUE=DATE:20251013
DTEND;VALUE=DATE:20251014
DTSTAMP:20260421T113442
CREATED:20250823T114711Z
LAST-MODIFIED:20250823T114823Z
UID:19047-1760313600-1760399999@www.vwi-braunschweig.de
SUMMARY:KISS - Grow Yourself\, Connect Better
DESCRIPTION:ESTIEM-Event\, Sprache englisch\, Bewerbung und mehr Infos hier: https://my.estiem.org/event/6745/ \nKISS is the abbreviation for Knowledge in Social Sciences \n\n\n\n\n\nApplication period: Jul 10\, 2025 – Aug 29\, 2025\nCancellation deadline: Sep 5\, 2025\nparticipation fee (includes all food\, accomodation and the event agenda): 105€ \n\n\n\n\n\n\n\n\n\n\n\nHave you ever felt misunderstood\, or struggled to connect deeply with others — even when you try your best? Then K.I.S.S. is just the event for you! This event is designed to support ESTIEMers in developing their social and emotional skills — helping you better understand yourself\, communicate with clarity\, and build more meaningful relationships. Throughout the event\, we’ll explore three key pillars of personal growth: \n\nSelf-Awareness – Discover your values\, energy balance\, and inner voice.\nCommunication – Learn to express yourself\, read others\, and set boundaries.\nConnection – Navigate relationships and understand the dynamics of love and closeness. With a dynamic blend of insightful training sessions and fun\, interactive activities\, K.I.S.S. offers a space to reflect\, learn\, connect — and grow into the best version of yourself. Are you ready to understand not just others\, but yourself more deeply?\n\nIn this K.I.S.S. event we made sure that you take something out of every session and bring it to the next one! All of the sessions are connected to each other for greater experience. You will have chance to test the skills and thoughts throughout the event.
URL:https://www.vwi-braunschweig.de/event/kiss-grow-yourself-connect-better/
LOCATION:Izmir\, Turkey
ATTACH;FMTTYPE=image/jpeg:https://www.vwi-braunschweig.de/wp-content/uploads/6745-header-0-2025-07-10-08-17-34.jpg
END:VEVENT
BEGIN:VEVENT
DTSTART;VALUE=DATE:20251023
DTEND;VALUE=DATE:20251027
DTSTAMP:20260421T113442
CREATED:20250824T112951Z
LAST-MODIFIED:20250824T112951Z
UID:19064-1761177600-1761523199@www.vwi-braunschweig.de
SUMMARY:VWI Forum
DESCRIPTION: \n\n\n \n\n\n\n\n\n\n\n\n\n\n\n\n\n \n\n\n\n\n\n\n\n\n\n\n\nVWI-Event\, Anmeldung über: https://forms.cloud.microsoft/e/iq8DFQB0hT \nDas VWI-Forum in Ansbach steht vor der Tür. Neben spannenden Vorträgen von Diehl\, der Deutschen Bahn und weiteren\, wartet auf euch eine Stadttour durch das schöne Ansbach\, eine Bartour und die sagenhafte “Students go Vegas” – Party. ‍  \n\n\n\n\n\n\n\n\n\n\n\n\n\n\n\n \n\n\n\nNeben Vorträgen gibt’s beim VWI-Forum auch Themen zu HG-Finanzen & Verbandsentwicklung\, wofür ihr uns gerne schon eure Ideen weiterleiten könnt. \n\nWann?: 23.10.25 – 26.10.25\nWo?: Ansbach\nTeilnahmebeitrag?: 60€\nTeilnehmerzahl?: 40 Personen\nAnmeldeschluss?: 24.09.2025
URL:https://www.vwi-braunschweig.de/event/vwi-forum/
LOCATION:Ansbach\, Germany
ATTACH;FMTTYPE=image/webp:https://www.vwi-braunschweig.de/wp-content/uploads/Logo-VWI-Fachforum-768x472-1.webp
END:VEVENT
END:VCALENDAR