BEGIN:VCALENDAR
VERSION:2.0
PRODID:-//VWI/ESTIEM Braunschweig - ECPv6.15.20//NONSGML v1.0//EN
CALSCALE:GREGORIAN
METHOD:PUBLISH
X-ORIGINAL-URL:https://www.vwi-braunschweig.de
X-WR-CALDESC:Veranstaltungen für VWI/ESTIEM Braunschweig
REFRESH-INTERVAL;VALUE=DURATION:PT1H
X-Robots-Tag:noindex
X-PUBLISHED-TTL:PT1H
BEGIN:VTIMEZONE
TZID:Europe/Berlin
BEGIN:DAYLIGHT
TZOFFSETFROM:+0100
TZOFFSETTO:+0200
TZNAME:CEST
DTSTART:20240331T010000
END:DAYLIGHT
BEGIN:STANDARD
TZOFFSETFROM:+0200
TZOFFSETTO:+0100
TZNAME:CET
DTSTART:20241027T010000
END:STANDARD
BEGIN:DAYLIGHT
TZOFFSETFROM:+0100
TZOFFSETTO:+0200
TZNAME:CEST
DTSTART:20250330T010000
END:DAYLIGHT
BEGIN:STANDARD
TZOFFSETFROM:+0200
TZOFFSETTO:+0100
TZNAME:CET
DTSTART:20251026T010000
END:STANDARD
BEGIN:DAYLIGHT
TZOFFSETFROM:+0100
TZOFFSETTO:+0200
TZNAME:CEST
DTSTART:20260329T010000
END:DAYLIGHT
BEGIN:STANDARD
TZOFFSETFROM:+0200
TZOFFSETTO:+0100
TZNAME:CET
DTSTART:20261025T010000
END:STANDARD
END:VTIMEZONE
BEGIN:VEVENT
DTSTART;VALUE=DATE:20250831
DTEND;VALUE=DATE:20250906
DTSTAMP:20260421T100806
CREATED:20250501T204739Z
LAST-MODIFIED:20250501T204739Z
UID:19027-1756598400-1757116799@www.vwi-braunschweig.de
SUMMARY:Tales of the Sea Activity Week
DESCRIPTION:Info und Anmeldung: https://estiem.org/event/6697/ \nErlebe den Sommer deines Lebens in Izmir – der Perle der Ägäis! Dich erwarten traumhafte Strände\, historische Orte und unvergessliche Erlebnisse mit ESTIEMern aus ganz Europa. \nHighlights:🌊 Bootstour durch kristallklares Wasser☕ Traditionelles Frühstück & türkischer Kaffee im Sand🧼 Türkisches Hamam-Erlebnis🎤 Karaoke\, Gala Night & Reeperbahn auf Türkisch🍴 Lokale Spezialitäten & Streetfood
URL:https://www.vwi-braunschweig.de/event/tales-of-the-sea-activity-week/
LOCATION:Izmir\, Turkey
ATTACH;FMTTYPE=image/jpeg:https://www.vwi-braunschweig.de/wp-content/uploads/6697-header-0-2025-04-29-19-14-08.jpg
END:VEVENT
BEGIN:VEVENT
DTSTART;TZID=Europe/Berlin:20250902T190000
DTEND;TZID=Europe/Berlin:20250902T210000
DTSTAMP:20260421T100806
CREATED:20250501T193708Z
LAST-MODIFIED:20250501T210513Z
UID:18993-1756839600-1756846800@www.vwi-braunschweig.de
SUMMARY:3. Mitgliederversammlung
DESCRIPTION:Wir treffen uns ca. 3-4 mal pro Semester ganz „offiziell“ zu einer Mitgliederversammlung\, um den Fortschritt der Projekte\, neue Ideen oder alte Probleme zu besprechen und zu lösen. Nebenbei nutzen wir die Zeit\, um über vergangene und bevorstehende Reisen unserer Mitglieder zu berichten. Außerdem ist genügend Zeit eingeplant\, um sich über die Universität und das Leben in Braunschweig auszutauschen und sich gegenseitig zu unterstützen. \nFür das leibliche Wohl und das ein oder andere Kaltgetränk zum Start in den Abend ist gesorgt. Im Anschluss wollen wir noch gemütlich in unserem Büro zusammensitzen. Wir freuen uns auf Euch!
URL:https://www.vwi-braunschweig.de/event/3-mitgliederversammlung/
LOCATION:Büro VWI/ESTIEM Braunschweig\, Schleinitzstraße 23A\, 1. OG\, Braunschweig\, 38106
ATTACH;FMTTYPE=image/png:https://www.vwi-braunschweig.de/wp-content/uploads/warum2.png
END:VEVENT
END:VCALENDAR