BEGIN:VCALENDAR
VERSION:2.0
PRODID:-//VWI/ESTIEM Braunschweig - ECPv6.15.20//NONSGML v1.0//EN
CALSCALE:GREGORIAN
METHOD:PUBLISH
X-WR-CALNAME:VWI/ESTIEM Braunschweig
X-ORIGINAL-URL:https://www.vwi-braunschweig.de
X-WR-CALDESC:Veranstaltungen für VWI/ESTIEM Braunschweig
REFRESH-INTERVAL;VALUE=DURATION:PT1H
X-Robots-Tag:noindex
X-PUBLISHED-TTL:PT1H
BEGIN:VTIMEZONE
TZID:Europe/Berlin
BEGIN:DAYLIGHT
TZOFFSETFROM:+0100
TZOFFSETTO:+0200
TZNAME:CEST
DTSTART:20250330T010000
END:DAYLIGHT
BEGIN:STANDARD
TZOFFSETFROM:+0200
TZOFFSETTO:+0100
TZNAME:CET
DTSTART:20251026T010000
END:STANDARD
BEGIN:DAYLIGHT
TZOFFSETFROM:+0100
TZOFFSETTO:+0200
TZNAME:CEST
DTSTART:20260329T010000
END:DAYLIGHT
BEGIN:STANDARD
TZOFFSETFROM:+0200
TZOFFSETTO:+0100
TZNAME:CET
DTSTART:20261025T010000
END:STANDARD
BEGIN:DAYLIGHT
TZOFFSETFROM:+0100
TZOFFSETTO:+0200
TZNAME:CEST
DTSTART:20270328T010000
END:DAYLIGHT
BEGIN:STANDARD
TZOFFSETFROM:+0200
TZOFFSETTO:+0100
TZNAME:CET
DTSTART:20271031T010000
END:STANDARD
END:VTIMEZONE
BEGIN:VEVENT
DTSTART;VALUE=DATE:20260423
DTEND;VALUE=DATE:20260427
DTSTAMP:20260426T062355
CREATED:20251219T215910Z
LAST-MODIFIED:20251219T215910Z
UID:19120-1776902400-1777247999@www.vwi-braunschweig.de
SUMMARY:Fachforum 2026
DESCRIPTION:  Fachforum 2026 – München   \nLiebe VWI-Mitglieder\,\nwir laden euch herzlich zum Fachforum München 2026 ein!\nFreut euch auf vier unvergessliche Tage voller spannender Vorträge\, inspirierender Diskussionen und jede Menge Spaß. \n Wann: 23.–26. April 2026 \nIhr habt Fragen? Kein Problem! Wir sind für euch da:\n kontakt-fachforum@vwi.org \nLiebe Grüße\nEuer Fachforum Projektteam 
URL:https://www.vwi-braunschweig.de/event/fachforum-2026/
LOCATION:München
ATTACH;FMTTYPE=image/webp:https://www.vwi-braunschweig.de/wp-content/uploads/Logo-VWI-Fachforum-768x472-1.webp
END:VEVENT
END:VCALENDAR