BEGIN:VCALENDAR
VERSION:2.0
PRODID:-//VWI/ESTIEM Braunschweig - ECPv6.15.20//NONSGML v1.0//EN
CALSCALE:GREGORIAN
METHOD:PUBLISH
X-ORIGINAL-URL:https://www.vwi-braunschweig.de
X-WR-CALDESC:Veranstaltungen für VWI/ESTIEM Braunschweig
REFRESH-INTERVAL;VALUE=DURATION:PT1H
X-Robots-Tag:noindex
X-PUBLISHED-TTL:PT1H
BEGIN:VTIMEZONE
TZID:Europe/Berlin
BEGIN:DAYLIGHT
TZOFFSETFROM:+0100
TZOFFSETTO:+0200
TZNAME:CEST
DTSTART:20250330T010000
END:DAYLIGHT
BEGIN:STANDARD
TZOFFSETFROM:+0200
TZOFFSETTO:+0100
TZNAME:CET
DTSTART:20251026T010000
END:STANDARD
BEGIN:DAYLIGHT
TZOFFSETFROM:+0100
TZOFFSETTO:+0200
TZNAME:CEST
DTSTART:20260329T010000
END:DAYLIGHT
BEGIN:STANDARD
TZOFFSETFROM:+0200
TZOFFSETTO:+0100
TZNAME:CET
DTSTART:20261025T010000
END:STANDARD
BEGIN:DAYLIGHT
TZOFFSETFROM:+0100
TZOFFSETTO:+0200
TZNAME:CEST
DTSTART:20270328T010000
END:DAYLIGHT
BEGIN:STANDARD
TZOFFSETFROM:+0200
TZOFFSETTO:+0100
TZNAME:CET
DTSTART:20271031T010000
END:STANDARD
END:VTIMEZONE
BEGIN:VEVENT
DTSTART;VALUE=DATE:20260409
DTEND;VALUE=DATE:20260412
DTSTAMP:20260425T232659
CREATED:20251219T215357Z
LAST-MODIFIED:20251220T193644Z
UID:19118-1775692800-1775951999@www.vwi-braunschweig.de
SUMMARY:CHEF-TREFF in Hamburg
DESCRIPTION:Liebe Mitglieder und Interessierte\,\nZwischen dem 9. & 11. April findet in Hamburg wieder der CHEFTREFF statt. Zusammen mit 3.500 Talenten & Startups\, 50 führenden CEOs\, Gründern und Unternehmen ist das die Gelegenheit\, sich über Karrierechancen\, die neuesten Tech-Trends und Skills sowie die persönliche Entwicklung auszutauschen. Und wir sind wieder als Partner mit dabei. \nWas erwartet Dich?\nBranchen-Insights\, inspirierende Keynotes und Vertreter von Organisationen und Unternehmen wie die Harvard University\, Google\, SAP\, Beiersdorf\, IBM\, McKinsey & Company und 35 weitere sowie herausragende Persönlichkeiten wie ABOUT YOU-Gründer Tarek Müller\, 1KOMMA5°-Gründer Philipp Schröder\, Beiersdorf CEO Vincent Warnery\, Finanzexperte Philipp Klöckner\, IBM CMO Daniel Unkelhäußer\, Paralympics-Gewinnerin Denise Schindler und viele andere. \nAlle Details Rund um Speaker\, Programm und Firmen gibt’s hier: http://www.chef-treff.de
URL:https://www.vwi-braunschweig.de/event/chef-treff-in-hamburg/
LOCATION:Hamburg
ATTACH;FMTTYPE=image/webp:https://www.vwi-braunschweig.de/wp-content/uploads/OIP.webp
END:VEVENT
END:VCALENDAR