BEGIN:VCALENDAR
VERSION:2.0
PRODID:-//VWI/ESTIEM Braunschweig - ECPv6.15.20//NONSGML v1.0//EN
CALSCALE:GREGORIAN
METHOD:PUBLISH
X-WR-CALNAME:VWI/ESTIEM Braunschweig
X-ORIGINAL-URL:https://www.vwi-braunschweig.de
X-WR-CALDESC:Veranstaltungen für VWI/ESTIEM Braunschweig
REFRESH-INTERVAL;VALUE=DURATION:PT1H
X-Robots-Tag:noindex
X-PUBLISHED-TTL:PT1H
BEGIN:VTIMEZONE
TZID:Europe/Berlin
BEGIN:DAYLIGHT
TZOFFSETFROM:+0100
TZOFFSETTO:+0200
TZNAME:CEST
DTSTART:20240331T010000
END:DAYLIGHT
BEGIN:STANDARD
TZOFFSETFROM:+0200
TZOFFSETTO:+0100
TZNAME:CET
DTSTART:20241027T010000
END:STANDARD
BEGIN:DAYLIGHT
TZOFFSETFROM:+0100
TZOFFSETTO:+0200
TZNAME:CEST
DTSTART:20250330T010000
END:DAYLIGHT
BEGIN:STANDARD
TZOFFSETFROM:+0200
TZOFFSETTO:+0100
TZNAME:CET
DTSTART:20251026T010000
END:STANDARD
BEGIN:DAYLIGHT
TZOFFSETFROM:+0100
TZOFFSETTO:+0200
TZNAME:CEST
DTSTART:20260329T010000
END:DAYLIGHT
BEGIN:STANDARD
TZOFFSETFROM:+0200
TZOFFSETTO:+0100
TZNAME:CET
DTSTART:20261025T010000
END:STANDARD
END:VTIMEZONE
BEGIN:VEVENT
DTSTART;TZID=Europe/Berlin:20251218T190000
DTEND;TZID=Europe/Berlin:20251218T220000
DTSTAMP:20260425T132204
CREATED:20251123T191630Z
LAST-MODIFIED:20251123T214226Z
UID:19105-1766084400-1766095200@www.vwi-braunschweig.de
SUMMARY:Weihnachtsfeier 2025
DESCRIPTION:Hallo Freunde\,\nam 18.12.25 soll unsere diesjährige Weihnachtsfeier stattfinden. Auch in diesem Jahr haben wir wieder einiges geschafft. Dies wollen wir gerne mit euch zusammen feiern.\nDie offizielle Weihnachtsfeier findet um 19 Uhr statt.\nGemeinsam mit euch wollen wir dieses Jahr mal etwas Neues probieren und feiern in der Uni Treffpunkt VWI-Büro. Dort stellen wir für euch Getränke\, Essen und jede Menge weihnachtliche Stimmung bereit… 🎶\nAlso schnappt euch euren Lieblings Weihnachtspulli und tragt euch unten ein. 🎄 \nWann? 18.12.2025 19:00 Uhr \nWo? Machbaugebäude\, oder 19:00 VWI Büro und gemeinsamer Weg dorthin \nAnmeldung: https://forms.gle/TPLPyW54JUpTBg87A
URL:https://www.vwi-braunschweig.de/event/weihnachtsfeier-2025/
LOCATION:Büro VWI/ESTIEM Braunschweig\, Schleinitzstraße 23A\, 1. OG\, Braunschweig\, 38106
ATTACH;FMTTYPE=image/jpeg:https://www.vwi-braunschweig.de/wp-content/uploads/Weihnachtsmuetze-fuer-Plueschtiere-Gr-M-mit-einem_1224536-e1666082314643.jpg
END:VEVENT
END:VCALENDAR