BEGIN:VCALENDAR
VERSION:2.0
PRODID:-//VWI/ESTIEM Braunschweig - ECPv6.15.20//NONSGML v1.0//EN
CALSCALE:GREGORIAN
METHOD:PUBLISH
X-WR-CALNAME:VWI/ESTIEM Braunschweig
X-ORIGINAL-URL:https://www.vwi-braunschweig.de
X-WR-CALDESC:Veranstaltungen für VWI/ESTIEM Braunschweig
REFRESH-INTERVAL;VALUE=DURATION:PT1H
X-Robots-Tag:noindex
X-PUBLISHED-TTL:PT1H
BEGIN:VTIMEZONE
TZID:Europe/Berlin
BEGIN:DAYLIGHT
TZOFFSETFROM:+0100
TZOFFSETTO:+0200
TZNAME:CEST
DTSTART:20240331T010000
END:DAYLIGHT
BEGIN:STANDARD
TZOFFSETFROM:+0200
TZOFFSETTO:+0100
TZNAME:CET
DTSTART:20241027T010000
END:STANDARD
BEGIN:DAYLIGHT
TZOFFSETFROM:+0100
TZOFFSETTO:+0200
TZNAME:CEST
DTSTART:20250330T010000
END:DAYLIGHT
BEGIN:STANDARD
TZOFFSETFROM:+0200
TZOFFSETTO:+0100
TZNAME:CET
DTSTART:20251026T010000
END:STANDARD
BEGIN:DAYLIGHT
TZOFFSETFROM:+0100
TZOFFSETTO:+0200
TZNAME:CEST
DTSTART:20260329T010000
END:DAYLIGHT
BEGIN:STANDARD
TZOFFSETFROM:+0200
TZOFFSETTO:+0100
TZNAME:CET
DTSTART:20261025T010000
END:STANDARD
END:VTIMEZONE
BEGIN:VEVENT
DTSTART;VALUE=DATE:20251104
DTEND;VALUE=DATE:20251107
DTSTAMP:20260421T154443
CREATED:20250824T112434Z
LAST-MODIFIED:20250824T112434Z
UID:19061-1762214400-1762473599@www.vwi-braunschweig.de
SUMMARY:HOKO® Hochschulkontaktmesse
DESCRIPTION:VWI-Event\, Anmeldung über unsere Hochschulgruppe. \nVom 04. bis 06. November wird die HOKO  ihre Türen am Campus der Hochschule München in der Lothstraße 64 öffnen. Die Hochschulkontaktmesse findet jedes Jahr im November statt und wird von der VWI – HG München e.V. veranstaltet. \nDie Gäste haben die Möglichkeit\, mit Firmen in Kontakt zu treten und sich von den Erfahrungen junger Unternehmer inspirieren zu lassen.
URL:https://www.vwi-braunschweig.de/event/hoko-hochschulkontaktmesse/
LOCATION:München
ATTACH;FMTTYPE=image/webp:https://www.vwi-braunschweig.de/wp-content/uploads/VWI-HOKO-2023.webp
END:VEVENT
END:VCALENDAR